BEGIN:VCALENDAR
VERSION:2.0
PRODID:-//Spotlight UK - ECPv6.15.20//NONSGML v1.0//EN
CALSCALE:GREGORIAN
METHOD:PUBLISH
X-WR-CALNAME:Spotlight UK
X-ORIGINAL-URL:https://spotlightuk.org
X-WR-CALDESC:Events for Spotlight UK
REFRESH-INTERVAL;VALUE=DURATION:PT1H
X-Robots-Tag:noindex
X-PUBLISHED-TTL:PT1H
BEGIN:VTIMEZONE
TZID:UTC
BEGIN:STANDARD
TZOFFSETFROM:+0000
TZOFFSETTO:+0000
TZNAME:UTC
DTSTART:20240101T000000
END:STANDARD
END:VTIMEZONE
BEGIN:VEVENT
DTSTART;TZID=UTC:20250308T123000
DTEND;TZID=UTC:20250308T133000
DTSTAMP:20260423T201450
CREATED:20250224T170944Z
LAST-MODIFIED:20250224T170947Z
UID:5467-1741437000-1741440600@spotlightuk.org
SUMMARY:Donutting Aldershot
DESCRIPTION:Gallwey Rd\, Aldershot GU11 2DD \n\n\n\nContact activities@spotlightuk.org to book.
URL:https://spotlightuk.org/eventcalendar/donutting-aldershot-3/
END:VEVENT
BEGIN:VEVENT
DTSTART;TZID=UTC:20250308T134500
DTEND;TZID=UTC:20250308T144500
DTSTAMP:20260423T201450
CREATED:20250224T171041Z
LAST-MODIFIED:20250224T171044Z
UID:5471-1741441500-1741445100@spotlightuk.org
SUMMARY:Donutting Aldershot
DESCRIPTION:Gallwey Rd\, Aldershot GU11 2DD \n\n\n\nContact activities@spotlightuk.org to book.
URL:https://spotlightuk.org/eventcalendar/donutting-aldershot-4/
END:VEVENT
BEGIN:VEVENT
DTSTART;TZID=UTC:20250313T180000
DTEND;TZID=UTC:20250313T180000
DTSTAMP:20260423T201450
CREATED:20250123T144227Z
LAST-MODIFIED:20250123T144230Z
UID:5345-1741888800-1741888800@spotlightuk.org
SUMMARY:Clip'n'Climb Reading
DESCRIPTION:The Grain Store\, Bridge Farm\, Clip ‘n Climb\, Reading RG2 9HT \n\n\n\nContact activities@spotlightuk.org to book.
URL:https://spotlightuk.org/eventcalendar/clipnclimb-reading-3/
END:VEVENT
BEGIN:VEVENT
DTSTART;TZID=UTC:20250320T181500
DTEND;TZID=UTC:20250320T201500
DTSTAMP:20260423T201450
CREATED:20250314T161627Z
LAST-MODIFIED:20250314T161631Z
UID:5646-1742494500-1742501700@spotlightuk.org
SUMMARY:Monkey Bizness Southampton
DESCRIPTION:234 Empress Rd\, Southampton SO14 0JW \n\n\n\nContact activities@spotlightuk.org to book.
URL:https://spotlightuk.org/eventcalendar/monkey-bizness-southampton/
END:VEVENT
BEGIN:VEVENT
DTSTART;TZID=UTC:20250321T180000
DTEND;TZID=UTC:20250321T180000
DTSTAMP:20260423T201450
CREATED:20250313T151855Z
LAST-MODIFIED:20250313T151902Z
UID:5590-1742580000-1742580000@spotlightuk.org
SUMMARY:Bowling Andover
DESCRIPTION:22-30 Bridge St\, Andover SP10 1BN \n\n\n\nContact activities@spotlightuk.org to book.
URL:https://spotlightuk.org/eventcalendar/bowling-andover-5/
END:VEVENT
BEGIN:VEVENT
DTSTART;TZID=UTC:20250322T124500
DTEND;TZID=UTC:20250322T134500
DTSTAMP:20260423T201450
CREATED:20250228T151027Z
LAST-MODIFIED:20250228T151031Z
UID:5547-1742647500-1742651100@spotlightuk.org
SUMMARY:High Score Arcade Southampton
DESCRIPTION:103 East St\, Southampton SO14 3HH \n\n\n\nAnyone attending on the arcade floor needs to book a ticket. Otherwise there is a waiting area in the café. \n\n\n\nContact activities@spotlightuk.org to book.
URL:https://spotlightuk.org/eventcalendar/high-score-arcade-southampton-9/
END:VEVENT
BEGIN:VEVENT
DTSTART;TZID=UTC:20250322T134500
DTEND;TZID=UTC:20250322T144500
DTSTAMP:20260423T201450
CREATED:20250228T151211Z
LAST-MODIFIED:20250228T151218Z
UID:5551-1742651100-1742654700@spotlightuk.org
SUMMARY:High Score Arcade Southampton
DESCRIPTION:103 East St\, Southampton SO14 3HH \n\n\n\nAnyone attending on the arcade floor needs to book a ticket. Otherwise there is a waiting area in the café. \n\n\n\nContact activities@spotlightuk.org to book.
URL:https://spotlightuk.org/eventcalendar/high-score-arcade-southampton-10/
END:VEVENT
BEGIN:VEVENT
DTSTART;TZID=UTC:20250322T144500
DTEND;TZID=UTC:20250322T154500
DTSTAMP:20260423T201450
CREATED:20250228T151340Z
LAST-MODIFIED:20250228T151344Z
UID:5555-1742654700-1742658300@spotlightuk.org
SUMMARY:High Score Arcade Southampton
DESCRIPTION:103 East St\, Southampton SO14 3HH \n\n\n\nAnyone attending on the arcade floor needs to book a ticket. Otherwise there is a waiting area in the café. \n\n\n\nContact activities@spotlightuk.org to book.
URL:https://spotlightuk.org/eventcalendar/high-score-arcade-southampton-11/
END:VEVENT
BEGIN:VEVENT
DTSTART;TZID=UTC:20250325T180000
DTEND;TZID=UTC:20250325T180000
DTSTAMP:20260423T201450
CREATED:20250313T153812Z
LAST-MODIFIED:20250313T153816Z
UID:5610-1742925600-1742925600@spotlightuk.org
SUMMARY:Bowling Southampton
DESCRIPTION:Contact activities@spotlightuk.org to book.
URL:https://spotlightuk.org/eventcalendar/bowling-southampton-2/
END:VEVENT
BEGIN:VEVENT
DTSTART;TZID=UTC:20250327T180000
DTEND;TZID=UTC:20250327T190000
DTSTAMP:20260423T201450
CREATED:20250314T153434Z
LAST-MODIFIED:20250314T153438Z
UID:5634-1743098400-1743102000@spotlightuk.org
SUMMARY:Ninja Warrior Guildford
DESCRIPTION:2 Thornberry Way\, Guildford GU1 1DQ \n\n\n\nContact activities@spotlightuk.org to book.
URL:https://spotlightuk.org/eventcalendar/ninja-warrior-guildford-3/
END:VEVENT
BEGIN:VEVENT
DTSTART;TZID=UTC:20250329T124500
DTEND;TZID=UTC:20250329T134500
DTSTAMP:20260423T201450
CREATED:20250227T145330Z
LAST-MODIFIED:20250227T150015Z
UID:5513-1743252300-1743255900@spotlightuk.org
SUMMARY:High Score Arcade Farnborough
DESCRIPTION:The Meads Shopping Centre\, Unit 29\, Farnborough GU14 7SL \n\n\n\nAnyone attending on the arcade floor needs to book a ticket. Otherwise there is a waiting area in the café. \n\n\n\nContact activities@spotlightuk.org to book.
URL:https://spotlightuk.org/eventcalendar/high-score-arcade-farnborough-11/
END:VEVENT
BEGIN:VEVENT
DTSTART;TZID=UTC:20250329T134500
DTEND;TZID=UTC:20250329T144500
DTSTAMP:20260423T201450
CREATED:20250227T145442Z
LAST-MODIFIED:20250227T145926Z
UID:5517-1743255900-1743259500@spotlightuk.org
SUMMARY:High Score Arcade Farnborough
DESCRIPTION:The Meads Shopping Centre\, Unit 29\, Farnborough GU14 7SL \n\n\n\nAnyone attending on the arcade floor needs to book a ticket. Otherwise there is a waiting area in the café. \n\n\n\nContact activities@spotlightuk.org to book.
URL:https://spotlightuk.org/eventcalendar/high-score-arcade-farnborough-12/
END:VEVENT
BEGIN:VEVENT
DTSTART;TZID=UTC:20250329T144500
DTEND;TZID=UTC:20250329T154500
DTSTAMP:20260423T201450
CREATED:20250227T145550Z
LAST-MODIFIED:20250227T145833Z
UID:5521-1743259500-1743263100@spotlightuk.org
SUMMARY:High Score Arcade Farnborough
DESCRIPTION:The Meads Shopping Centre\, Unit 29\, Farnborough GU14 7SL \n\n\n\nAnyone attending on the arcade floor needs to book a ticket. Otherwise there is a waiting area in the café. \n\n\n\nContact activities@spotlightuk.org to book.
URL:https://spotlightuk.org/eventcalendar/high-score-arcade-farnborough-13/
END:VEVENT
END:VCALENDAR