BEGIN:VCALENDAR
VERSION:2.0
PRODID:-//Spotlight UK - ECPv6.15.20//NONSGML v1.0//EN
CALSCALE:GREGORIAN
METHOD:PUBLISH
X-ORIGINAL-URL:https://spotlightuk.org
X-WR-CALDESC:Events for Spotlight UK
REFRESH-INTERVAL;VALUE=DURATION:PT1H
X-Robots-Tag:noindex
X-PUBLISHED-TTL:PT1H
BEGIN:VTIMEZONE
TZID:UTC
BEGIN:STANDARD
TZOFFSETFROM:+0000
TZOFFSETTO:+0000
TZNAME:UTC
DTSTART:20230101T000000
END:STANDARD
END:VTIMEZONE
BEGIN:VEVENT
DTSTART;TZID=UTC:20241002T180000
DTEND;TZID=UTC:20241002T180000
DTSTAMP:20260425T122533
CREATED:20240920T134928Z
LAST-MODIFIED:20240920T134930Z
UID:4857-1727892000-1727892000@spotlightuk.org
SUMMARY:Clip 'n' Climb - Reading
DESCRIPTION:The Grain Store\, Bridge Farm\, Clip ‘n Climb\, Reading RG2 9HT \n\n\n\nContact activities@spotlightuk.org to book.
URL:https://spotlightuk.org/eventcalendar/clip-n-climb-reading-4/
END:VEVENT
BEGIN:VEVENT
DTSTART;TZID=UTC:20241004T160000
DTEND;TZID=UTC:20241004T173000
DTSTAMP:20260425T122533
CREATED:20240919T131633Z
LAST-MODIFIED:20240919T131932Z
UID:4839-1728057600-1728063000@spotlightuk.org
SUMMARY:Ocean Play
DESCRIPTION:Havant Leisure Centre\, Civic Centre Rd\, Havant PO9 2AY \n\n\n\nContact activities@spotlightuk.org to book.
URL:https://spotlightuk.org/eventcalendar/ocean-play/
END:VEVENT
BEGIN:VEVENT
DTSTART;TZID=UTC:20241009T180000
DTEND;TZID=UTC:20241009T200000
DTSTAMP:20260425T122533
CREATED:20240920T141843Z
LAST-MODIFIED:20240923T123024Z
UID:4873-1728496800-1728504000@spotlightuk.org
SUMMARY:Atmosphere Trampolining Basingstoke
DESCRIPTION:Unit B\, Daneshill Industrial Estate\, Rutherford Rd\, Basingstoke RG24 8PD \n\n\n\nAny adults that need to supervise their children will also need a ticket. \n\n\n\nContact activities@spotlightuk.org to book.
URL:https://spotlightuk.org/eventcalendar/atmosphere-trampolining-basingstoke-3/
END:VEVENT
BEGIN:VEVENT
DTSTART;TZID=UTC:20241011T180000
DTEND;TZID=UTC:20241011T180000
DTSTAMP:20260425T122533
CREATED:20240920T144506Z
LAST-MODIFIED:20240927T114844Z
UID:4889-1728669600-1728669600@spotlightuk.org
SUMMARY:Bowling Andover
DESCRIPTION:22-30 Bridge St\, Andover SP10 1BN \n\n\n\nContact activities@spotlightuk.org to book.
URL:https://spotlightuk.org/eventcalendar/bowling-andover/
END:VEVENT
BEGIN:VEVENT
DTSTART;TZID=UTC:20241012T134500
DTEND;TZID=UTC:20241012T144500
DTSTAMP:20260425T122533
CREATED:20240920T152842Z
LAST-MODIFIED:20240920T152844Z
UID:4897-1728740700-1728744300@spotlightuk.org
SUMMARY:High Score Arcade Newbury
DESCRIPTION:25 Cheap St\, Newbury RG14 5DB \n\n\n\nAnyone attending on the arcade floor needs to book a ticket. Otherwise there is a waiting area in the café. \n\n\n\nContact activities@spotlightuk.org to book.
URL:https://spotlightuk.org/eventcalendar/high-score-arcade-newbury-6/
END:VEVENT
BEGIN:VEVENT
DTSTART;TZID=UTC:20241012T144500
DTEND;TZID=UTC:20241012T154500
DTSTAMP:20260425T122533
CREATED:20240920T153019Z
LAST-MODIFIED:20240920T153021Z
UID:4901-1728744300-1728747900@spotlightuk.org
SUMMARY:High Score Arcade Newbury
DESCRIPTION:25 Cheap St\, Newbury RG14 5DB \n\n\n\nAnyone attending on the arcade floor needs to book a ticket. Otherwise there is a waiting area in the café. \n\n\n\nContact activities@spotlightuk.org to book.
URL:https://spotlightuk.org/eventcalendar/high-score-arcade-newbury-7/
END:VEVENT
BEGIN:VEVENT
DTSTART;TZID=UTC:20241014T163000
DTEND;TZID=UTC:20241014T163000
DTSTAMP:20260425T122533
CREATED:20240920T153251Z
LAST-MODIFIED:20240920T153253Z
UID:4905-1728923400-1728923400@spotlightuk.org
SUMMARY:Partyman Soft Play Eastleigh - Private Hire
DESCRIPTION:L10 Southampton Road Swan Shopping Centre\, Eastleigh SO50 5SF \n\n\n\nContact activities@spotlightuk.org to book.
URL:https://spotlightuk.org/eventcalendar/partyman-soft-play-eastleigh-private-hire/
END:VEVENT
BEGIN:VEVENT
DTSTART;TZID=UTC:20241019T144500
DTEND;TZID=UTC:20241019T154500
DTSTAMP:20260425T122533
CREATED:20240923T153747Z
LAST-MODIFIED:20240923T153749Z
UID:4935-1729349100-1729352700@spotlightuk.org
SUMMARY:High Score Arcade Farnborough
DESCRIPTION:The Meads Shopping Centre\, Unit 29\, Farnborough GU14 7SL \n\n\n\nAnyone attending on the arcade floor needs to book a ticket. Otherwise there is a waiting area in the café. \n\n\n\nContact activities@spotlightuk.org to book.
URL:https://spotlightuk.org/eventcalendar/high-score-arcade-farnborough-5/
END:VEVENT
BEGIN:VEVENT
DTSTART;TZID=UTC:20241021T180000
DTEND;TZID=UTC:20241021T180000
DTSTAMP:20260425T122533
CREATED:20240923T153934Z
LAST-MODIFIED:20240923T153936Z
UID:4939-1729533600-1729533600@spotlightuk.org
SUMMARY:Family Bowling Basingstoke
DESCRIPTION:Worting Road\, Basingstoke RG22 6PG \n\n\n\nContact activities@spotlightuk.org to book.
URL:https://spotlightuk.org/eventcalendar/family-bowling-basingstoke-5/
END:VEVENT
BEGIN:VEVENT
DTSTART;TZID=UTC:20241023T180000
DTEND;TZID=UTC:20241023T200000
DTSTAMP:20260425T122533
CREATED:20240920T142017Z
LAST-MODIFIED:20240923T123036Z
UID:4877-1729706400-1729713600@spotlightuk.org
SUMMARY:Atmosphere Trampolining Basingstoke
DESCRIPTION:Unit B\, Daneshill Industrial Estate\, Rutherford Rd\, Basingstoke RG24 8PD \n\n\n\nAny adults that need to supervise their children will also need a ticket. \n\n\n\nContact activities@spotlightuk.org to book.
URL:https://spotlightuk.org/eventcalendar/atmosphere-trampolining-basingstoke-4/
END:VEVENT
BEGIN:VEVENT
DTSTART;TZID=UTC:20241026T134500
DTEND;TZID=UTC:20241026T144500
DTSTAMP:20260425T122533
CREATED:20240925T144755Z
LAST-MODIFIED:20240925T144757Z
UID:4956-1729950300-1729953900@spotlightuk.org
SUMMARY:High Score Arcade Southampton
DESCRIPTION:103 East St\, Southampton SO14 3HH \n\n\n\nAnyone attending on the arcade floor needs to book a ticket. Otherwise there is a waiting area in the café. \n\n\n\nContact activities@spotlightuk.org to book.
URL:https://spotlightuk.org/eventcalendar/high-score-arcade-southampton-4/
END:VEVENT
BEGIN:VEVENT
DTSTART;TZID=UTC:20241026T144500
DTEND;TZID=UTC:20241026T154500
DTSTAMP:20260425T122533
CREATED:20240925T144901Z
LAST-MODIFIED:20240925T144904Z
UID:4961-1729953900-1729957500@spotlightuk.org
SUMMARY:High Score Arcade Southampton
DESCRIPTION:103 East St\, Southampton SO14 3HH \n\n\n\nAnyone attending on the arcade floor needs to book a ticket. Otherwise there is a waiting area in the café. \n\n\n\nContact activities@spotlightuk.org to book.
URL:https://spotlightuk.org/eventcalendar/high-score-arcade-southampton-6/
END:VEVENT
BEGIN:VEVENT
DTSTART;TZID=UTC:20241027T140000
DTEND;TZID=UTC:20241027T160000
DTSTAMP:20260425T122533
CREATED:20241022T133034Z
LAST-MODIFIED:20241022T133037Z
UID:5015-1730037600-1730044800@spotlightuk.org
SUMMARY:Action Station Portsmouth
DESCRIPTION:Victory Gate\, HM Naval Base\, Portsmouth\, PO1 3LJ \n\n\n\nContact activities@spotlightuk.org to book.
URL:https://spotlightuk.org/eventcalendar/action-station-portsmouth/
END:VEVENT
END:VCALENDAR