BEGIN:VCALENDAR
VERSION:2.0
PRODID:-//Spotlight UK - ECPv6.15.20//NONSGML v1.0//EN
CALSCALE:GREGORIAN
METHOD:PUBLISH
X-ORIGINAL-URL:https://spotlightuk.org
X-WR-CALDESC:Events for Spotlight UK
REFRESH-INTERVAL;VALUE=DURATION:PT1H
X-Robots-Tag:noindex
X-PUBLISHED-TTL:PT1H
BEGIN:VTIMEZONE
TZID:UTC
BEGIN:STANDARD
TZOFFSETFROM:+0000
TZOFFSETTO:+0000
TZNAME:UTC
DTSTART:20240101T000000
END:STANDARD
END:VTIMEZONE
BEGIN:VEVENT
DTSTART;TZID=UTC:20250414T180000
DTEND;TZID=UTC:20250414T180000
DTSTAMP:20260424T154411
CREATED:20250314T174748Z
LAST-MODIFIED:20250314T174753Z
UID:5718-1744653600-1744653600@spotlightuk.org
SUMMARY:Flip Out Portsmouth
DESCRIPTION:Unit 4\, Harbour gate business park\, Southampton Rd\, Portsmouth PO6 4BQ \n\n\n\nContact activities@spotlightuk.org to book.
URL:https://spotlightuk.org/eventcalendar/flip-out-portsmouth-4/
END:VEVENT
END:VCALENDAR