BEGIN:VCALENDAR
VERSION:2.0
PRODID:-//Spotlight UK - ECPv6.15.20//NONSGML v1.0//EN
CALSCALE:GREGORIAN
METHOD:PUBLISH
X-ORIGINAL-URL:https://spotlightuk.org
X-WR-CALDESC:Events for Spotlight UK
REFRESH-INTERVAL;VALUE=DURATION:PT1H
X-Robots-Tag:noindex
X-PUBLISHED-TTL:PT1H
BEGIN:VTIMEZONE
TZID:UTC
BEGIN:STANDARD
TZOFFSETFROM:+0000
TZOFFSETTO:+0000
TZNAME:UTC
DTSTART:20240101T000000
END:STANDARD
END:VTIMEZONE
BEGIN:VEVENT
DTSTART;TZID=UTC:20250320T181500
DTEND;TZID=UTC:20250320T201500
DTSTAMP:20260425T122313
CREATED:20250314T161627Z
LAST-MODIFIED:20250314T161631Z
UID:5646-1742494500-1742501700@spotlightuk.org
SUMMARY:Monkey Bizness Southampton
DESCRIPTION:234 Empress Rd\, Southampton SO14 0JW \n\n\n\nContact activities@spotlightuk.org to book.
URL:https://spotlightuk.org/eventcalendar/monkey-bizness-southampton/
END:VEVENT
END:VCALENDAR