BEGIN:VCALENDAR
VERSION:2.0
PRODID:-//Spotlight UK - ECPv6.15.20//NONSGML v1.0//EN
CALSCALE:GREGORIAN
METHOD:PUBLISH
X-WR-CALNAME:Spotlight UK
X-ORIGINAL-URL:https://spotlightuk.org
X-WR-CALDESC:Events for Spotlight UK
REFRESH-INTERVAL;VALUE=DURATION:PT1H
X-Robots-Tag:noindex
X-PUBLISHED-TTL:PT1H
BEGIN:VTIMEZONE
TZID:UTC
BEGIN:STANDARD
TZOFFSETFROM:+0000
TZOFFSETTO:+0000
TZNAME:UTC
DTSTART:20240101T000000
END:STANDARD
END:VTIMEZONE
BEGIN:VEVENT
DTSTART;TZID=UTC:20250215T130000
DTEND;TZID=UTC:20250215T150000
DTSTAMP:20260425T105112
CREATED:20250205T135959Z
LAST-MODIFIED:20250205T140004Z
UID:5433-1739624400-1739631600@spotlightuk.org
SUMMARY:Donutting Aldershot
DESCRIPTION:Gallwey Rd\, Aldershot GU11 2DD \n\n\n\nContact activities@spotlightuk.org to book.
URL:https://spotlightuk.org/eventcalendar/donutting-aldershot-2/
END:VEVENT
END:VCALENDAR