BEGIN:VCALENDAR
VERSION:2.0
PRODID:-//Spotlight UK - ECPv6.15.20//NONSGML v1.0//EN
CALSCALE:GREGORIAN
METHOD:PUBLISH
X-ORIGINAL-URL:https://spotlightuk.org
X-WR-CALDESC:Events for Spotlight UK
REFRESH-INTERVAL;VALUE=DURATION:PT1H
X-Robots-Tag:noindex
X-PUBLISHED-TTL:PT1H
BEGIN:VTIMEZONE
TZID:UTC
BEGIN:STANDARD
TZOFFSETFROM:+0000
TZOFFSETTO:+0000
TZNAME:UTC
DTSTART:20240101T000000
END:STANDARD
END:VTIMEZONE
BEGIN:VEVENT
DTSTART;TZID=UTC:20250202T140000
DTEND;TZID=UTC:20250202T160000
DTSTAMP:20260423T201828
CREATED:20250123T141505Z
LAST-MODIFIED:20250123T141510Z
UID:5309-1738504800-1738512000@spotlightuk.org
SUMMARY:Action Stations Portsmouth
DESCRIPTION:19 College Rd\, HM Naval Base\, Portsmouth PO1 3LJ \n\n\n\nContact activities@spotlightuk.org to book.
URL:https://spotlightuk.org/eventcalendar/action-stations-portsmouth/
END:VEVENT
END:VCALENDAR