BEGIN:VCALENDAR
VERSION:2.0
PRODID:-//Spotlight UK - ECPv6.15.20//NONSGML v1.0//EN
CALSCALE:GREGORIAN
METHOD:PUBLISH
X-WR-CALNAME:Spotlight UK
X-ORIGINAL-URL:https://spotlightuk.org
X-WR-CALDESC:Events for Spotlight UK
REFRESH-INTERVAL;VALUE=DURATION:PT1H
X-Robots-Tag:noindex
X-PUBLISHED-TTL:PT1H
BEGIN:VTIMEZONE
TZID:UTC
BEGIN:STANDARD
TZOFFSETFROM:+0000
TZOFFSETTO:+0000
TZNAME:UTC
DTSTART:20240101T000000
END:STANDARD
END:VTIMEZONE
BEGIN:VEVENT
DTSTART;TZID=UTC:20250201T094500
DTEND;TZID=UTC:20250201T104500
DTSTAMP:20260423T201511
CREATED:20250117T183638Z
LAST-MODIFIED:20250117T183643Z
UID:5296-1738403100-1738406700@spotlightuk.org
SUMMARY:High Score Arcade Farnborough
DESCRIPTION:The Meads Shopping Centre\, Unit 29\, Farnborough GU14 7SL \n\n\n\nAnyone attending on the arcade floor needs to book a ticket. Otherwise there is a waiting area in the café. \n\n\n\nContact activities@spotlightuk.org to book.
URL:https://spotlightuk.org/eventcalendar/high-score-arcade-farnborough-8/
END:VEVENT
BEGIN:VEVENT
DTSTART;TZID=UTC:20250201T104500
DTEND;TZID=UTC:20250201T114500
DTSTAMP:20260423T201511
CREATED:20250123T140424Z
LAST-MODIFIED:20250123T140429Z
UID:5301-1738406700-1738410300@spotlightuk.org
SUMMARY:High Score Arcade Farnborough
DESCRIPTION:The Meads Shopping Centre\, Unit 29\, Farnborough GU14 7SL \n\n\n\nAnyone attending on the arcade floor needs to book a ticket. Otherwise there is a waiting area in the café. \n\n\n\nContact activities@spotlightuk.org to book.
URL:https://spotlightuk.org/eventcalendar/high-score-arcade-farnborough-9/
END:VEVENT
BEGIN:VEVENT
DTSTART;TZID=UTC:20250201T114500
DTEND;TZID=UTC:20250201T124500
DTSTAMP:20260423T201511
CREATED:20250123T140525Z
LAST-MODIFIED:20250123T140530Z
UID:5305-1738410300-1738413900@spotlightuk.org
SUMMARY:High Score Arcade Farnborough
DESCRIPTION:The Meads Shopping Centre\, Unit 29\, Farnborough GU14 7SL \n\n\n\nAnyone attending on the arcade floor needs to book a ticket. Otherwise there is a waiting area in the café. \n\n\n\nContact activities@spotlightuk.org to book.
URL:https://spotlightuk.org/eventcalendar/high-score-arcade-farnborough-10/
END:VEVENT
END:VCALENDAR