BEGIN:VCALENDAR
VERSION:2.0
PRODID:-//Spotlight UK - ECPv6.15.20//NONSGML v1.0//EN
CALSCALE:GREGORIAN
METHOD:PUBLISH
X-WR-CALNAME:Spotlight UK
X-ORIGINAL-URL:https://spotlightuk.org
X-WR-CALDESC:Events for Spotlight UK
REFRESH-INTERVAL;VALUE=DURATION:PT1H
X-Robots-Tag:noindex
X-PUBLISHED-TTL:PT1H
BEGIN:VTIMEZONE
TZID:UTC
BEGIN:STANDARD
TZOFFSETFROM:+0000
TZOFFSETTO:+0000
TZNAME:UTC
DTSTART:20240101T000000
END:STANDARD
END:VTIMEZONE
BEGIN:VEVENT
DTSTART;TZID=UTC:20250119T180000
DTEND;TZID=UTC:20250119T200000
DTSTAMP:20260425T122230
CREATED:20241119T155310Z
LAST-MODIFIED:20241120T153531Z
UID:5240-1737309600-1737316800@spotlightuk.org
SUMMARY:Flip Out Portsmouth
DESCRIPTION:Contact activities@spotlightuk.org to book.
URL:https://spotlightuk.org/eventcalendar/flip-out-portsmouth-2/
END:VEVENT
END:VCALENDAR