BEGIN:VCALENDAR
VERSION:2.0
PRODID:-//Spotlight UK - ECPv6.15.20//NONSGML v1.0//EN
CALSCALE:GREGORIAN
METHOD:PUBLISH
X-ORIGINAL-URL:https://spotlightuk.org
X-WR-CALDESC:Events for Spotlight UK
REFRESH-INTERVAL;VALUE=DURATION:PT1H
X-Robots-Tag:noindex
X-PUBLISHED-TTL:PT1H
BEGIN:VTIMEZONE
TZID:UTC
BEGIN:STANDARD
TZOFFSETFROM:+0000
TZOFFSETTO:+0000
TZNAME:UTC
DTSTART:20240101T000000
END:STANDARD
END:VTIMEZONE
BEGIN:VEVENT
DTSTART;TZID=UTC:20250118T124500
DTEND;TZID=UTC:20250118T134500
DTSTAMP:20260425T103447
CREATED:20241119T151541Z
LAST-MODIFIED:20241119T151544Z
UID:5223-1737204300-1737207900@spotlightuk.org
SUMMARY:High Score Arcade Newbury
DESCRIPTION:25 Cheap St\, Newbury RG14 5DB \n\n\n\nAnyone attending on the arcade floor needs to book a ticket. Otherwise there is a waiting area in the café. \n\n\n\nContact activities@spotlightuk.org to book.
URL:https://spotlightuk.org/eventcalendar/high-score-arcade-newbury-10/
END:VEVENT
BEGIN:VEVENT
DTSTART;TZID=UTC:20250118T134500
DTEND;TZID=UTC:20250118T144500
DTSTAMP:20260425T103447
CREATED:20241119T151944Z
LAST-MODIFIED:20241119T151946Z
UID:5228-1737207900-1737211500@spotlightuk.org
SUMMARY:High Score Arcade Newbury
DESCRIPTION:25 Cheap St\, Newbury RG14 5DB \n\n\n\nAnyone attending on the arcade floor needs to book a ticket. Otherwise there is a waiting area in the café. \n\n\n\nContact activities@spotlightuk.org to book.
URL:https://spotlightuk.org/eventcalendar/high-score-arcade-newbury-11/
END:VEVENT
BEGIN:VEVENT
DTSTART;TZID=UTC:20250118T140000
DTEND;TZID=UTC:20250118T140000
DTSTAMP:20260425T103447
CREATED:20241119T154542Z
LAST-MODIFIED:20241119T154545Z
UID:5236-1737208800-1737208800@spotlightuk.org
SUMMARY:Family Swim Lagoona Basingstoke
DESCRIPTION:Contact activities@spotlightuk.org to book.
URL:https://spotlightuk.org/eventcalendar/family-swim-lagoona-basingstoke/
END:VEVENT
BEGIN:VEVENT
DTSTART;TZID=UTC:20250118T144500
DTEND;TZID=UTC:20250118T154500
DTSTAMP:20260425T103447
CREATED:20241119T152131Z
LAST-MODIFIED:20241119T152134Z
UID:5232-1737211500-1737215100@spotlightuk.org
SUMMARY:High Score Arcade Newbury
DESCRIPTION:25 Cheap St\, Newbury RG14 5DB \n\n\n\nAnyone attending on the arcade floor needs to book a ticket. Otherwise there is a waiting area in the café. \n\n\n\nContact activities@spotlightuk.org to book.
URL:https://spotlightuk.org/eventcalendar/high-score-arcade-newbury-12/
END:VEVENT
END:VCALENDAR