BEGIN:VCALENDAR
VERSION:2.0
PRODID:-//Spotlight UK - ECPv6.15.20//NONSGML v1.0//EN
CALSCALE:GREGORIAN
METHOD:PUBLISH
X-ORIGINAL-URL:https://spotlightuk.org
X-WR-CALDESC:Events for Spotlight UK
REFRESH-INTERVAL;VALUE=DURATION:PT1H
X-Robots-Tag:noindex
X-PUBLISHED-TTL:PT1H
BEGIN:VTIMEZONE
TZID:UTC
BEGIN:STANDARD
TZOFFSETFROM:+0000
TZOFFSETTO:+0000
TZNAME:UTC
DTSTART:20240101T000000
END:STANDARD
END:VTIMEZONE
BEGIN:VEVENT
DTSTART;TZID=UTC:20250107T181500
DTEND;TZID=UTC:20250107T201500
DTSTAMP:20260423T181940
CREATED:20241119T144153Z
LAST-MODIFIED:20241119T144155Z
UID:5178-1736273700-1736280900@spotlightuk.org
SUMMARY:Monkey Bizzness Gosport
DESCRIPTION:Contact activities@spotlightuk.org to book.
URL:https://spotlightuk.org/eventcalendar/monkey-bizzness-gosport/
END:VEVENT
END:VCALENDAR