BEGIN:VCALENDAR
VERSION:2.0
PRODID:-//Spotlight UK - ECPv6.15.20//NONSGML v1.0//EN
CALSCALE:GREGORIAN
METHOD:PUBLISH
X-ORIGINAL-URL:https://spotlightuk.org
X-WR-CALDESC:Events for Spotlight UK
REFRESH-INTERVAL;VALUE=DURATION:PT1H
X-Robots-Tag:noindex
X-PUBLISHED-TTL:PT1H
BEGIN:VTIMEZONE
TZID:UTC
BEGIN:STANDARD
TZOFFSETFROM:+0000
TZOFFSETTO:+0000
TZNAME:UTC
DTSTART:20230101T000000
END:STANDARD
END:VTIMEZONE
BEGIN:VEVENT
DTSTART;TZID=UTC:20241221T124500
DTEND;TZID=UTC:20241221T134500
DTSTAMP:20260423T163619
CREATED:20241113T164517Z
LAST-MODIFIED:20241113T164620Z
UID:5159-1734785100-1734788700@spotlightuk.org
SUMMARY:High Score Arcade Farnborough
DESCRIPTION:The Meads Shopping Centre\, Unit 29\, Farnborough GU14 7SL \n\n\n\nAnyone attending on the arcade floor needs to book a ticket. Otherwise there is a waiting area in the café. \n\n\n\nContact activities@spotlightuk.org to book.
URL:https://spotlightuk.org/eventcalendar/high-score-arcade-farnborough-4/
END:VEVENT
BEGIN:VEVENT
DTSTART;TZID=UTC:20241221T134500
DTEND;TZID=UTC:20241221T144500
DTSTAMP:20260423T163619
CREATED:20241113T164706Z
LAST-MODIFIED:20241113T164708Z
UID:5164-1734788700-1734792300@spotlightuk.org
SUMMARY:High Score Arcade Farnborough
DESCRIPTION:The Meads Shopping Centre\, Unit 29\, Farnborough GU14 7SL \n\n\n\nAnyone attending on the arcade floor needs to book a ticket. Otherwise there is a waiting area in the café. \n\n\n\nContact activities@spotlightuk.org to book.
URL:https://spotlightuk.org/eventcalendar/high-score-arcade-farnborough-6/
END:VEVENT
BEGIN:VEVENT
DTSTART;TZID=UTC:20241221T144500
DTEND;TZID=UTC:20241221T154500
DTSTAMP:20260423T163619
CREATED:20241113T164820Z
LAST-MODIFIED:20241113T164823Z
UID:5170-1734792300-1734795900@spotlightuk.org
SUMMARY:High Score Arcade Farnborough
DESCRIPTION:The Meads Shopping Centre\, Unit 29\, Farnborough GU14 7SL \n\n\n\nAnyone attending on the arcade floor needs to book a ticket. Otherwise there is a waiting area in the café. \n\n\n\nContact activities@spotlightuk.org to book.
URL:https://spotlightuk.org/eventcalendar/high-score-arcade-farnborough-7/
END:VEVENT
END:VCALENDAR