BEGIN:VCALENDAR
VERSION:2.0
PRODID:-//Spotlight UK - ECPv6.15.20//NONSGML v1.0//EN
CALSCALE:GREGORIAN
METHOD:PUBLISH
X-ORIGINAL-URL:https://spotlightuk.org
X-WR-CALDESC:Events for Spotlight UK
REFRESH-INTERVAL;VALUE=DURATION:PT1H
X-Robots-Tag:noindex
X-PUBLISHED-TTL:PT1H
BEGIN:VTIMEZONE
TZID:UTC
BEGIN:STANDARD
TZOFFSETFROM:+0000
TZOFFSETTO:+0000
TZNAME:UTC
DTSTART:20230101T000000
END:STANDARD
END:VTIMEZONE
BEGIN:VEVENT
DTSTART;TZID=UTC:20241216T163000
DTEND;TZID=UTC:20241216T163000
DTSTAMP:20260423T164555
CREATED:20241113T163739Z
LAST-MODIFIED:20241113T163742Z
UID:5155-1734366600-1734366600@spotlightuk.org
SUMMARY:Partyman Soft Play Eastleigh - Private Hire
DESCRIPTION:L10 Southampton Road Swan Shopping Centre\, Eastleigh SO50 5SF \n\n\n\nContact activities@spotlightuk.org to book.
URL:https://spotlightuk.org/eventcalendar/partyman-soft-play-eastleigh-private-hire-4/
END:VEVENT
END:VCALENDAR