BEGIN:VCALENDAR
VERSION:2.0
PRODID:-//Spotlight UK - ECPv6.15.20//NONSGML v1.0//EN
CALSCALE:GREGORIAN
METHOD:PUBLISH
X-WR-CALNAME:Spotlight UK
X-ORIGINAL-URL:https://spotlightuk.org
X-WR-CALDESC:Events for Spotlight UK
REFRESH-INTERVAL;VALUE=DURATION:PT1H
X-Robots-Tag:noindex
X-PUBLISHED-TTL:PT1H
BEGIN:VTIMEZONE
TZID:UTC
BEGIN:STANDARD
TZOFFSETFROM:+0000
TZOFFSETTO:+0000
TZNAME:UTC
DTSTART:20230101T000000
END:STANDARD
END:VTIMEZONE
BEGIN:VEVENT
DTSTART;TZID=UTC:20241203T180000
DTEND;TZID=UTC:20241203T180000
DTSTAMP:20260423T164233
CREATED:20241113T161904Z
LAST-MODIFIED:20241113T161906Z
UID:5131-1733248800-1733248800@spotlightuk.org
SUMMARY:Bowling Camberley
DESCRIPTION:No 8\, The Atrium\, Park St\, Camberley GU15 3GP \n\n\n\nContact activities@spotlightuk.org to book.
URL:https://spotlightuk.org/eventcalendar/bowling-camberley-2/
END:VEVENT
END:VCALENDAR