BEGIN:VCALENDAR
VERSION:2.0
PRODID:-//Spotlight UK - ECPv6.15.20//NONSGML v1.0//EN
CALSCALE:GREGORIAN
METHOD:PUBLISH
X-ORIGINAL-URL:https://spotlightuk.org
X-WR-CALDESC:Events for Spotlight UK
REFRESH-INTERVAL;VALUE=DURATION:PT1H
X-Robots-Tag:noindex
X-PUBLISHED-TTL:PT1H
BEGIN:VTIMEZONE
TZID:UTC
BEGIN:STANDARD
TZOFFSETFROM:+0000
TZOFFSETTO:+0000
TZNAME:UTC
DTSTART:20230101T000000
END:STANDARD
END:VTIMEZONE
BEGIN:VEVENT
DTSTART;TZID=UTC:20241201T110000
DTEND;TZID=UTC:20241201T124500
DTSTAMP:20260423T163625
CREATED:20241113T161215Z
LAST-MODIFIED:20241113T161218Z
UID:5127-1733050800-1733057100@spotlightuk.org
SUMMARY:Aldershot Cinema - Moana
DESCRIPTION:Westgate\, Unit 5 Princes Way\, Aldershot GU11 1WG \n\n\n\nContact activities@spotlightuk.org to book.
URL:https://spotlightuk.org/eventcalendar/aldershot-cinema-moana/
END:VEVENT
END:VCALENDAR