BEGIN:VCALENDAR
VERSION:2.0
PRODID:-//Spotlight UK - ECPv6.15.20//NONSGML v1.0//EN
CALSCALE:GREGORIAN
METHOD:PUBLISH
X-WR-CALNAME:Spotlight UK
X-ORIGINAL-URL:https://spotlightuk.org
X-WR-CALDESC:Events for Spotlight UK
REFRESH-INTERVAL;VALUE=DURATION:PT1H
X-Robots-Tag:noindex
X-PUBLISHED-TTL:PT1H
BEGIN:VTIMEZONE
TZID:UTC
BEGIN:STANDARD
TZOFFSETFROM:+0000
TZOFFSETTO:+0000
TZNAME:UTC
DTSTART:20230101T000000
END:STANDARD
END:VTIMEZONE
BEGIN:VEVENT
DTSTART;TZID=UTC:20241130T060000
DTEND;TZID=UTC:20241130T190000
DTSTAMP:20260423T164102
CREATED:20241113T160018Z
LAST-MODIFIED:20241113T160020Z
UID:5123-1732946400-1732993200@spotlightuk.org
SUMMARY:Ninja Warrior Southampton
DESCRIPTION:Antelope Park\, Bursledon Rd\, Thornhill\, Southampton SO19 8NE
URL:https://spotlightuk.org/eventcalendar/ninja-warrior-southampton/
END:VEVENT
BEGIN:VEVENT
DTSTART;TZID=UTC:20241130T124500
DTEND;TZID=UTC:20241130T134500
DTSTAMP:20260423T164102
CREATED:20241111T162021Z
LAST-MODIFIED:20241111T162023Z
UID:5110-1732970700-1732974300@spotlightuk.org
SUMMARY:High Score Arcade Southampton
DESCRIPTION:103 East St\, Southampton SO14 3HH \n\n\n\nAnyone attending on the arcade floor needs to book a ticket. Otherwise there is a waiting area in the café. \n\n\n\nContact activities@spotlightuk.org to book.
URL:https://spotlightuk.org/eventcalendar/high-score-arcade-southampton-3/
END:VEVENT
BEGIN:VEVENT
DTSTART;TZID=UTC:20241130T134500
DTEND;TZID=UTC:20241130T144500
DTSTAMP:20260423T164102
CREATED:20241111T162136Z
LAST-MODIFIED:20241111T162139Z
UID:5114-1732974300-1732977900@spotlightuk.org
SUMMARY:High Score Arcade Southampton
DESCRIPTION:103 East St\, Southampton SO14 3HH \n\n\n\nAnyone attending on the arcade floor needs to book a ticket. Otherwise there is a waiting area in the café. \n\n\n\nContact activities@spotlightuk.org to book.
URL:https://spotlightuk.org/eventcalendar/high-score-arcade-southampton-7/
END:VEVENT
BEGIN:VEVENT
DTSTART;TZID=UTC:20241130T144500
DTEND;TZID=UTC:20241130T154500
DTSTAMP:20260423T164102
CREATED:20241111T162250Z
LAST-MODIFIED:20241111T162253Z
UID:5118-1732977900-1732981500@spotlightuk.org
SUMMARY:High Score Arcade Southampton
DESCRIPTION:103 East St\, Southampton SO14 3HH \n\n\n\nAnyone attending on the arcade floor needs to book a ticket. Otherwise there is a waiting area in the café. \n\n\n\nContact activities@spotlightuk.org to book.
URL:https://spotlightuk.org/eventcalendar/high-score-arcade-southampton-8/
END:VEVENT
END:VCALENDAR