BEGIN:VCALENDAR
VERSION:2.0
PRODID:-//Spotlight UK - ECPv6.15.20//NONSGML v1.0//EN
CALSCALE:GREGORIAN
METHOD:PUBLISH
X-ORIGINAL-URL:https://spotlightuk.org
X-WR-CALDESC:Events for Spotlight UK
REFRESH-INTERVAL;VALUE=DURATION:PT1H
X-Robots-Tag:noindex
X-PUBLISHED-TTL:PT1H
BEGIN:VTIMEZONE
TZID:UTC
BEGIN:STANDARD
TZOFFSETFROM:+0000
TZOFFSETTO:+0000
TZNAME:UTC
DTSTART:20230101T000000
END:STANDARD
END:VTIMEZONE
BEGIN:VEVENT
DTSTART;TZID=UTC:20241102T111500
DTEND;TZID=UTC:20241102T121500
DTSTAMP:20260423T201821
CREATED:20241022T133305Z
LAST-MODIFIED:20241022T133308Z
UID:5019-1730546100-1730549700@spotlightuk.org
SUMMARY:High Score Arcade Bracknell
DESCRIPTION:The Lexicon\, High Score Arcades\, 20 Princess Sq\, Bracknell RG12 1LS \n\n\n\nAnyone attending on the arcade floor needs to book a ticket. Otherwise there is a waiting area in the café. \n\n\n\nContact activities@spotlightuk.org to book.
URL:https://spotlightuk.org/eventcalendar/high-score-arcade-bracknell/
END:VEVENT
BEGIN:VEVENT
DTSTART;TZID=UTC:20241102T121500
DTEND;TZID=UTC:20241102T131500
DTSTAMP:20260423T201821
CREATED:20241022T133820Z
LAST-MODIFIED:20241022T133822Z
UID:5023-1730549700-1730553300@spotlightuk.org
SUMMARY:High Score Arcade Bracknell
DESCRIPTION:The Lexicon\, High Score Arcades\, 20 Princess Sq\, Bracknell RG12 1LS \n\n\n\nAnyone attending on the arcade floor needs to book a ticket. Otherwise there is a waiting area in the café. \n\n\n\nContact activities@spotlightuk.org to book.
URL:https://spotlightuk.org/eventcalendar/high-score-arcade-bracknell-5/
END:VEVENT
BEGIN:VEVENT
DTSTART;TZID=UTC:20241102T131500
DTEND;TZID=UTC:20241102T141500
DTSTAMP:20260423T201821
CREATED:20241022T134427Z
LAST-MODIFIED:20241022T134430Z
UID:5027-1730553300-1730556900@spotlightuk.org
SUMMARY:High Score Arcade Bracknell
DESCRIPTION:The Lexicon\, High Score Arcades\, 20 Princess Sq\, Bracknell RG12 1LS \n\n\n\nAnyone attending on the arcade floor needs to book a ticket. Otherwise there is a waiting area in the café. \n\n\n\nContact activities@spotlightuk.org to book.
URL:https://spotlightuk.org/eventcalendar/high-score-arcade-bracknell-6/
END:VEVENT
END:VCALENDAR