BEGIN:VCALENDAR
VERSION:2.0
PRODID:-//Spotlight UK - ECPv6.15.20//NONSGML v1.0//EN
CALSCALE:GREGORIAN
METHOD:PUBLISH
X-ORIGINAL-URL:https://spotlightuk.org
X-WR-CALDESC:Events for Spotlight UK
REFRESH-INTERVAL;VALUE=DURATION:PT1H
X-Robots-Tag:noindex
X-PUBLISHED-TTL:PT1H
BEGIN:VTIMEZONE
TZID:UTC
BEGIN:STANDARD
TZOFFSETFROM:+0000
TZOFFSETTO:+0000
TZNAME:UTC
DTSTART:20230101T000000
END:STANDARD
END:VTIMEZONE
BEGIN:VEVENT
DTSTART;TZID=UTC:20240927T180000
DTEND;TZID=UTC:20240927T180000
DTSTAMP:20260424T050135
CREATED:20240726T141756Z
LAST-MODIFIED:20240726T141758Z
UID:4646-1727460000-1727460000@spotlightuk.org
SUMMARY:H20 Youth Swim Basingstoke
DESCRIPTION:Worting Rd\, Basingstoke RG22 6PG \n\n\n\nContact activities@spotlightuk.org to book.
URL:https://spotlightuk.org/eventcalendar/h20-youth-swim-basingstoke-2/
END:VEVENT
BEGIN:VEVENT
DTSTART;TZID=UTC:20240927T181500
DTEND;TZID=UTC:20240927T201500
DTSTAMP:20260424T050135
CREATED:20240828T152119Z
LAST-MODIFIED:20240828T152121Z
UID:4791-1727460900-1727468100@spotlightuk.org
SUMMARY:Jungle Mania Woodley
DESCRIPTION:Unit 4\, Headley Park Nine\, Headley Rd E\, Woodley\, Reading RG5 4SQ \n\n\n\nContact activities@spotlightuk.org to book.
URL:https://spotlightuk.org/eventcalendar/jungle-mania-woodley/
END:VEVENT
END:VCALENDAR