BEGIN:VCALENDAR
VERSION:2.0
PRODID:-//Spotlight UK - ECPv6.15.20//NONSGML v1.0//EN
CALSCALE:GREGORIAN
METHOD:PUBLISH
X-ORIGINAL-URL:https://spotlightuk.org
X-WR-CALDESC:Events for Spotlight UK
REFRESH-INTERVAL;VALUE=DURATION:PT1H
X-Robots-Tag:noindex
X-PUBLISHED-TTL:PT1H
BEGIN:VTIMEZONE
TZID:UTC
BEGIN:STANDARD
TZOFFSETFROM:+0000
TZOFFSETTO:+0000
TZNAME:UTC
DTSTART:20230101T000000
END:STANDARD
END:VTIMEZONE
BEGIN:VEVENT
DTSTART;TZID=UTC:20240925T180000
DTEND;TZID=UTC:20240925T180000
DTSTAMP:20260424T100512
CREATED:20240726T141259Z
LAST-MODIFIED:20240923T121717Z
UID:4635-1727287200-1727287200@spotlightuk.org
SUMMARY:Atmosphere Trampolining Basingstoke
DESCRIPTION:Unit B\, Daneshill Industrial Estate\, Rutherford Rd\, Basingstoke RG24 8PD \n\n\n\nAny adults that need to supervise their children will also need a ticket. \n\n\n\nContact activities@spotlightuk.org to book.
URL:https://spotlightuk.org/eventcalendar/atmosphere-trampolining-basingstoke-2/
END:VEVENT
END:VCALENDAR