BEGIN:VCALENDAR
VERSION:2.0
PRODID:-//Spotlight UK - ECPv6.15.20//NONSGML v1.0//EN
CALSCALE:GREGORIAN
METHOD:PUBLISH
X-ORIGINAL-URL:https://spotlightuk.org
X-WR-CALDESC:Events for Spotlight UK
REFRESH-INTERVAL;VALUE=DURATION:PT1H
X-Robots-Tag:noindex
X-PUBLISHED-TTL:PT1H
BEGIN:VTIMEZONE
TZID:UTC
BEGIN:STANDARD
TZOFFSETFROM:+0000
TZOFFSETTO:+0000
TZNAME:UTC
DTSTART:20230101T000000
END:STANDARD
END:VTIMEZONE
BEGIN:VEVENT
DTSTART;TZID=UTC:20240921T110000
DTEND;TZID=UTC:20240921T110000
DTSTAMP:20260424T155837
CREATED:20240726T132025Z
LAST-MODIFIED:20240726T132027Z
UID:4616-1726916400-1726916400@spotlightuk.org
SUMMARY:Romsey Rapids
DESCRIPTION:Southampton Rd\, Romsey SO51 8AF \n\n\n\nContact activities@spotlightuk.org to book.
URL:https://spotlightuk.org/eventcalendar/romsey-rapids/
END:VEVENT
BEGIN:VEVENT
DTSTART;TZID=UTC:20240921T141500
DTEND;TZID=UTC:20240921T154500
DTSTAMP:20260424T155837
CREATED:20240828T150919Z
LAST-MODIFIED:20240916T140251Z
UID:4764-1726928100-1726933500@spotlightuk.org
SUMMARY:High Score Arcade Southampton
DESCRIPTION:103 East St\, Southampton SO14 3HH \n\n\n\nAnyone attending on the arcade floor needs to book a ticket. Otherwise there is a waiting area in the café. \n\n\n\nContact activities@spotlightuk.org to book.
URL:https://spotlightuk.org/eventcalendar/high-score-arcade-southampton-5/
END:VEVENT
END:VCALENDAR